BEGIN:VCALENDAR
VERSION:2.0
PRODID:-//Otero de Herreros - ECPv6.15.20//NONSGML v1.0//EN
CALSCALE:GREGORIAN
METHOD:PUBLISH
X-WR-CALNAME:Otero de Herreros
X-ORIGINAL-URL:https://oterodeherreros.es
X-WR-CALDESC:Eventos para Otero de Herreros
REFRESH-INTERVAL;VALUE=DURATION:PT1H
X-Robots-Tag:noindex
X-PUBLISHED-TTL:PT1H
BEGIN:VTIMEZONE
TZID:Europe/Helsinki
BEGIN:DAYLIGHT
TZOFFSETFROM:+0200
TZOFFSETTO:+0300
TZNAME:EEST
DTSTART:20250330T010000
END:DAYLIGHT
BEGIN:STANDARD
TZOFFSETFROM:+0300
TZOFFSETTO:+0200
TZNAME:EET
DTSTART:20251026T010000
END:STANDARD
BEGIN:DAYLIGHT
TZOFFSETFROM:+0200
TZOFFSETTO:+0300
TZNAME:EEST
DTSTART:20260329T010000
END:DAYLIGHT
BEGIN:STANDARD
TZOFFSETFROM:+0300
TZOFFSETTO:+0200
TZNAME:EET
DTSTART:20261025T010000
END:STANDARD
BEGIN:DAYLIGHT
TZOFFSETFROM:+0200
TZOFFSETTO:+0300
TZNAME:EEST
DTSTART:20270328T010000
END:DAYLIGHT
BEGIN:STANDARD
TZOFFSETFROM:+0300
TZOFFSETTO:+0200
TZNAME:EET
DTSTART:20271031T010000
END:STANDARD
END:VTIMEZONE
BEGIN:VTIMEZONE
TZID:Europe/Madrid
BEGIN:DAYLIGHT
TZOFFSETFROM:+0100
TZOFFSETTO:+0200
TZNAME:CEST
DTSTART:20250330T010000
END:DAYLIGHT
BEGIN:STANDARD
TZOFFSETFROM:+0200
TZOFFSETTO:+0100
TZNAME:CET
DTSTART:20251026T010000
END:STANDARD
BEGIN:DAYLIGHT
TZOFFSETFROM:+0100
TZOFFSETTO:+0200
TZNAME:CEST
DTSTART:20260329T010000
END:DAYLIGHT
BEGIN:STANDARD
TZOFFSETFROM:+0200
TZOFFSETTO:+0100
TZNAME:CET
DTSTART:20261025T010000
END:STANDARD
BEGIN:DAYLIGHT
TZOFFSETFROM:+0100
TZOFFSETTO:+0200
TZNAME:CEST
DTSTART:20270328T010000
END:DAYLIGHT
BEGIN:STANDARD
TZOFFSETFROM:+0200
TZOFFSETTO:+0100
TZNAME:CET
DTSTART:20271031T010000
END:STANDARD
END:VTIMEZONE
BEGIN:VEVENT
DTSTART;TZID=Europe/Helsinki:20260426T110000
DTEND;TZID=Europe/Helsinki:20260426T140000
DTSTAMP:20260422T114816
CREATED:20260421T075053Z
LAST-MODIFIED:20260421T075053Z
UID:37522-1777201200-1777212000@oterodeherreros.es
SUMMARY:Plantación de árboles
DESCRIPTION:Día 26 de Ábril en Otero de Herreros  \nA las 11:30h en la Plaza Mayor  \nDesde el ayuntamiento de Otero de Herreros vamos a poner nuestro granito de arena con esta plantación de arboles. \n ¡¡¡Animaros!!! \n#OteroInformado \n#OteroYSuEncanto \n#OteroYLaNaturaleza  
URL:https://oterodeherreros.es/evento/plantacion-de-arboles-4/
LOCATION:Campo de Futbol
CATEGORIES:Eventos
ATTACH;FMTTYPE=image/jpeg:https://oterodeherreros.es/wp-content/uploads/2026/04/plantacion-de-arboles.jpg
END:VEVENT
BEGIN:VEVENT
DTSTART;TZID=Europe/Madrid:20260504T100000
DTEND;TZID=Europe/Madrid:20260504T122000
DTSTAMP:20260422T114816
CREATED:20260422T082338Z
LAST-MODIFIED:20260422T082338Z
UID:37541-1777888800-1777897200@oterodeherreros.es
SUMMARY:Bibliobus
DESCRIPTION: \nPlaza Mayor\n10:00h a 12:20 aprox\n\n#OteroInformado\n#OteroYLaCultura\n\n 
URL:https://oterodeherreros.es/evento/bibliobus-53/
LOCATION:Plaza Mayor\, Plaza Mayor\, Otero de Herreros\, 40422
CATEGORIES:Eventos
ATTACH;FMTTYPE=image/jpeg:https://oterodeherreros.es/wp-content/uploads/2026/04/bibliobus-5-2026.jpg
END:VEVENT
BEGIN:VEVENT
DTSTART;VALUE=DATE:20260509
DTEND;VALUE=DATE:20260510
DTSTAMP:20260422T114816
CREATED:20260422T074203Z
LAST-MODIFIED:20260422T074203Z
UID:37533-1778284800-1778371199@oterodeherreros.es
SUMMARY:Romería Virgen de la Adrada\, Subida de la Virgen
DESCRIPTION:Llega uno de los días más bonitos en nuestro\n\n\npueblo\, la subida de la virgen\, el día de las aguas…\n\n\nel sonido de las dulzainas y el calor de la gente danzando a su Virgen ?\n\n\nNuestras Tradiciones y Nuestra Esencia.\n\n\n#OteroYSusTradiciones\n\n\n#ElEncantoDeOtero\n\n\n \n\n\nViva la Virgen de la Adrada!!!”\n\n 
URL:https://oterodeherreros.es/evento/romeria-virgen-de-la-adrada-subida-de-la-virgen-2/
LOCATION:Ermita Virgen de la Adrada\, Otero de Herreros\, 40422
CATEGORIES:Eventos
ATTACH;FMTTYPE=image/jpeg:https://oterodeherreros.es/wp-content/uploads/2026/04/virgen-de-la-Adrada.jpeg
END:VEVENT
BEGIN:VEVENT
DTSTART;VALUE=DATE:20260526
DTEND;VALUE=DATE:20260527
DTSTAMP:20260422T114816
CREATED:20260422T080317Z
LAST-MODIFIED:20260422T080317Z
UID:37538-1779753600-1779839999@oterodeherreros.es
SUMMARY:Recogida de Enseres
DESCRIPTION:Para usar el servicio de recogida de Enseres\, se deberá llamar al número que aparece en cartel con antelación indicando que se tiene que retirar y donde.\nLA RECOGIDA SE REALIZARÁ A LO LARGO DEL DÍA\nNO DEJAR EN CONTENEDORES NI CALLES \nPOR UN OTERO LIMPIO Y BONITO \n¡ESTÁ EN MANOS DE TOD@S! \n#OteroInformado \n#OteroRecicla \n#OteroBonito \n \n 
URL:https://oterodeherreros.es/evento/recogida-de-enseres-57/
CATEGORIES:Eventos
ATTACH;FMTTYPE=image/png:https://oterodeherreros.es/wp-content/uploads/2026/04/recogida-de-enseres.png
END:VEVENT
END:VCALENDAR