BEGIN:VCALENDAR
VERSION:2.0
PRODID:-//Otero de Herreros - ECPv6.15.20//NONSGML v1.0//EN
CALSCALE:GREGORIAN
METHOD:PUBLISH
X-WR-CALNAME:Otero de Herreros
X-ORIGINAL-URL:https://oterodeherreros.es
X-WR-CALDESC:Eventos para Otero de Herreros
REFRESH-INTERVAL;VALUE=DURATION:PT1H
X-Robots-Tag:noindex
X-PUBLISHED-TTL:PT1H
BEGIN:VTIMEZONE
TZID:Europe/Helsinki
BEGIN:DAYLIGHT
TZOFFSETFROM:+0200
TZOFFSETTO:+0300
TZNAME:EEST
DTSTART:20230326T010000
END:DAYLIGHT
BEGIN:STANDARD
TZOFFSETFROM:+0300
TZOFFSETTO:+0200
TZNAME:EET
DTSTART:20231029T010000
END:STANDARD
BEGIN:DAYLIGHT
TZOFFSETFROM:+0200
TZOFFSETTO:+0300
TZNAME:EEST
DTSTART:20240331T010000
END:DAYLIGHT
BEGIN:STANDARD
TZOFFSETFROM:+0300
TZOFFSETTO:+0200
TZNAME:EET
DTSTART:20241027T010000
END:STANDARD
BEGIN:DAYLIGHT
TZOFFSETFROM:+0200
TZOFFSETTO:+0300
TZNAME:EEST
DTSTART:20250330T010000
END:DAYLIGHT
BEGIN:STANDARD
TZOFFSETFROM:+0300
TZOFFSETTO:+0200
TZNAME:EET
DTSTART:20251026T010000
END:STANDARD
END:VTIMEZONE
BEGIN:VEVENT
DTSTART;TZID=Europe/Helsinki:20240705T220000
DTEND;TZID=Europe/Helsinki:20240705T233000
DTSTAMP:20260422T155037
CREATED:20240701T095804Z
LAST-MODIFIED:20240701T100104Z
UID:32114-1720216800-1720222200@oterodeherreros.es
SUMMARY:Cine de Verano  Elemental
DESCRIPTION:VIERNES DE CINE DE VERANO \nEntrada GRATUITA!!! (105min) \n\n\n\nTítulo original    Elemental \nAño  2023 \nDuración 101 min. \nGénero Animación. Aventuras. Romance. Fantástico. Comedia. Drama | Cine familiar. \nSinopsis: Ambientada en Ciudad Elemento\, donde conviven habitantes de fuego\, agua\, tierra y aire. La protagonista de la historia es Candela\, una joven fuerte\, ingeniosa y con carácter\, cuya amistad con un chico sensible\, afable y tranquilo\, llamado Nilo\, cambia su perspectiva sobre el mundo en el que viven. (FILMAFFINITY) \n \n 
URL:https://oterodeherreros.es/evento/cine-de-verano-elemental/
LOCATION:Plaza Mayor\, Plaza Mayor\, Otero de Herreros\, 40422
CATEGORIES:Eventos
ATTACH;FMTTYPE=image/jpeg:https://oterodeherreros.es/wp-content/uploads/2024/07/cine-de-verano-5.jpg
END:VEVENT
BEGIN:VEVENT
DTSTART;TZID=Europe/Helsinki:20240706T220000
DTEND;TZID=Europe/Helsinki:20240706T233000
DTSTAMP:20260422T155037
CREATED:20240624T093616Z
LAST-MODIFIED:20240624T093946Z
UID:31947-1720303200-1720308600@oterodeherreros.es
SUMMARY:Beauties & the Beats
DESCRIPTION:Gran noche a cargo de este fantástico grupo que nos amenizará con un repertorio de The Beatles\n¡NO TE LO PUEDES PERDER!!\n\n\n#OteroEnVerano\n\n\n#OteroInformado\n\n\n#OteroEntretenido
URL:https://oterodeherreros.es/evento/beauties-the-beats/
LOCATION:Plaza Mayor\, Plaza Mayor\, Otero de Herreros\, 40422
CATEGORIES:Eventos
ATTACH;FMTTYPE=image/jpeg:https://oterodeherreros.es/wp-content/uploads/2024/06/beatles.jpg
END:VEVENT
BEGIN:VEVENT
DTSTART;TZID=Europe/Helsinki:20240711T203000
DTEND;TZID=Europe/Helsinki:20240711T203000
DTSTAMP:20260422T155037
CREATED:20240709T141011Z
LAST-MODIFIED:20240709T141027Z
UID:32258-1720729800-1720729800@oterodeherreros.es
SUMMARY:Pleno Ordinario
DESCRIPTION:DATOS DE LA CONVOCATORIA\nTipo Convocatoria Ordinaria \nFecha y hora\n1ª convocatoria: 11 de julio de 2024 a las 20:30\n2ª convocatoria: 11 de julio de 2024 a las 21:00 \nLugar\nSalón de plenos de la Casa Consistorial \nSEGUNDO. Que se lleven a cabo los trámites legales oportunos para efectuar la convocatoria y notificación a los miembros de este órgano colegiado. \nTERCERO. Fijar el siguiente orden del día: \nASUNTOS DE LA CONVOCATORIA \nA) Parte resolutiva\n1.Aprobación del acta de la sesión anterior\n2.Aprobación cuenta general 2023.\n3.Aprobación definitiva del PRESUPUESTO Municipal 2024.\n4.Modificación del Convenio de Colaboración entre la Diputación Provincial de Segovia y los Ayuntamientos de menos de 20.000 habitantes de la Provincia de Segovia\, las Entidades Locales Menores\, Mancomunidades\, las Comunidades de Villa y Tierra\, los Consorcios Provinciales y el Museo Esteban Vicente para la prestación de servicios de administración electrónica\n5.Modificación gastos Mancomunidad de la Mujer Muerta\n6.Aprobación de pagos\n7.Informe de asuntos varios por la Alcaldía. \nB) Actividad de control\n8. Decretos de Alcaldía \nC) 9. Ruegos y preguntas
URL:https://oterodeherreros.es/evento/pleno-ordinario-24/
LOCATION:Salón de Plenos del Ayuntamiento\, Plaza Mayor\, Otero de Herreros\, 40422
CATEGORIES:Eventos
ATTACH;FMTTYPE=image/jpeg:https://oterodeherreros.es/wp-content/uploads/2024/07/11-de-julio.jpg
END:VEVENT
BEGIN:VEVENT
DTSTART;VALUE=DATE:20240712
DTEND;VALUE=DATE:20240715
DTSTAMP:20260422T155037
CREATED:20240624T095803Z
LAST-MODIFIED:20240624T095803Z
UID:31951-1720742400-1721001599@oterodeherreros.es
SUMMARY:Seminario ZNKR IAIDO  PATRIK DEMUYNCK  SENSEI
DESCRIPTION:
URL:https://oterodeherreros.es/evento/seminario-znkr-iaido-patrik-demuynck-sensei/
LOCATION:Pabellon Municipal
CATEGORIES:Eventos
ATTACH;FMTTYPE=image/jpeg:https://oterodeherreros.es/wp-content/uploads/2024/06/seminario-1.jpg
END:VEVENT
BEGIN:VEVENT
DTSTART;TZID=Europe/Helsinki:20240712T220000
DTEND;TZID=Europe/Helsinki:20240712T233000
DTSTAMP:20260422T155037
CREATED:20240704T141347Z
LAST-MODIFIED:20240709T081045Z
UID:32171-1720821600-1720827000@oterodeherreros.es
SUMMARY:Cine de Verano  Wonka
DESCRIPTION:VIERNES DE CINE DE VERANO \nEntrada GRATUITA!!! (105min) \n\n\nTítulo original Wonkaaka \nAño 2023\nDuración 112 min.\nSinopsis Basada en el personaje que protagoniza ‘Charlie y la fábrica de chocolate’\, el libro infantil más emblemático de Roald Dahl y uno de los más vendidos de todos los tiempos\, ‘Wonka’ cuenta la historia de cómo el mayor inventor\, mago y chocolatero del mundo se convirtió en el querido Willy Wonka que conocemos hoy en día\, centrándose en su juventud y en cómo conoció a un Oompa-Loompa en una de sus primeras aventuras. (FILMAFFINITY)\n\n \n 
URL:https://oterodeherreros.es/evento/cine-de-verano-elemental-2/
LOCATION:Plaza Mayor\, Plaza Mayor\, Otero de Herreros\, 40422
CATEGORIES:Eventos
ATTACH;FMTTYPE=image/jpeg:https://oterodeherreros.es/wp-content/uploads/2024/07/cine-de-verano-12.jpg
END:VEVENT
BEGIN:VEVENT
DTSTART;TZID=Europe/Helsinki:20240713T220000
DTEND;TZID=Europe/Helsinki:20240713T220000
DTSTAMP:20260422T155037
CREATED:20240704T142154Z
LAST-MODIFIED:20240704T142154Z
UID:32174-1720908000-1720908000@oterodeherreros.es
SUMMARY:Teatro "Noches de Versos"
DESCRIPTION:
URL:https://oterodeherreros.es/evento/teatro-noches-de-versos/
LOCATION:IGLESIA SANTOS JUSTO Y PASTOR
CATEGORIES:Eventos
ATTACH;FMTTYPE=image/jpeg:https://oterodeherreros.es/wp-content/uploads/2024/07/teatro-noches-de-versos.jpg
END:VEVENT
BEGIN:VEVENT
DTSTART;TZID=Europe/Helsinki:20240714T200000
DTEND;TZID=Europe/Helsinki:20240714T235800
DTSTAMP:20260422T155037
CREATED:20240711T150957Z
LAST-MODIFIED:20240711T150957Z
UID:32279-1720987200-1721001480@oterodeherreros.es
SUMMARY:Pantalla Gigante Final de la Eurocopa 2024
DESCRIPTION:
URL:https://oterodeherreros.es/evento/pantalla-gigante-final-de-la-eurocopa-2024/
LOCATION:Plaza Mayor\, Plaza Mayor\, Otero de Herreros\, 40422
ATTACH;FMTTYPE=image/jpeg:https://oterodeherreros.es/wp-content/uploads/2024/07/pantalla-gigante-2.jpg
END:VEVENT
BEGIN:VEVENT
DTSTART;VALUE=DATE:20240719
DTEND;VALUE=DATE:20240722
DTSTAMP:20260422T155037
CREATED:20240715T144339Z
LAST-MODIFIED:20240715T144339Z
UID:32301-1721347200-1721606399@oterodeherreros.es
SUMMARY:Campeonato de Pádel Fiestas Santiago Apóstol\, estación de Otero de Herreros
DESCRIPTION:
URL:https://oterodeherreros.es/evento/campeonato-de-padel-fiestas-santiago-apostol-estacion-de-otero-de-herreros/
LOCATION:Pista de Padel\, arcipreste de hita\, otero de herreros\, segovia\, 40422
CATEGORIES:Eventos
ATTACH;FMTTYPE=image/jpeg:https://oterodeherreros.es/wp-content/uploads/2024/07/padel-estacion.jpg
END:VEVENT
BEGIN:VEVENT
DTSTART;TZID=Europe/Helsinki:20240719T220000
DTEND;TZID=Europe/Helsinki:20240719T233000
DTSTAMP:20260422T155037
CREATED:20240711T140354Z
LAST-MODIFIED:20240711T140354Z
UID:32273-1721426400-1721431800@oterodeherreros.es
SUMMARY:Cine de Verano  " Vacaciones de verano"
DESCRIPTION:VIERNES DE CINE DE VERANO \nEntrada GRATUITA!!! (105min) \n\nTítulo original Vacaciones de verano\nAño 2023\n\nDuración 100 min. \nDos amigos\, Oscar y Félix\, pierden su trabajo y se ven obligados a aceptar un trabajo temporal como animadores infantiles en un hotel de lujo. Al ser ambos divorciados\, les tocan sus hijos un mes de verano y les es imposible compaginarlo con el trabajo\, con lo cual deciden llevarse a los niños y ocultarlos en el hotel\, escondidos en la zona de empleados… pero el plan resulta ser un desastre\n\n \n 
URL:https://oterodeherreros.es/evento/cine-de-verano-vacaciones-de-verano/
LOCATION:Plaza Mayor\, Plaza Mayor\, Otero de Herreros\, 40422
CATEGORIES:Eventos
ATTACH;FMTTYPE=image/jpeg:https://oterodeherreros.es/wp-content/uploads/2024/07/cine-de-verano19-1.jpg
END:VEVENT
BEGIN:VEVENT
DTSTART;TZID=Europe/Helsinki:20240720T220000
DTEND;TZID=Europe/Helsinki:20240720T220000
DTSTAMP:20260422T155037
CREATED:20240709T080009Z
LAST-MODIFIED:20240709T080009Z
UID:32186-1721512800-1721512800@oterodeherreros.es
SUMMARY:Monologo Noches Locas " JUAN SINDE"
DESCRIPTION:
URL:https://oterodeherreros.es/evento/monologo-noches-locas-juan-sinde/
LOCATION:Bar Piscina Municipal
CATEGORIES:Eventos
ATTACH;FMTTYPE=image/jpeg:https://oterodeherreros.es/wp-content/uploads/2024/07/Cartel_Noches_Locas_2024_JPG-1.jpg
END:VEVENT
BEGIN:VEVENT
DTSTART;VALUE=DATE:20240723
DTEND;VALUE=DATE:20240724
DTSTAMP:20260422T155037
CREATED:20240624T085648Z
LAST-MODIFIED:20240624T085648Z
UID:31941-1721692800-1721779199@oterodeherreros.es
SUMMARY:Recogida de Enseres
DESCRIPTION:Para usar el servicio de recogida de Enseres\, se deberá llamar al Ayuntamiento con antelación indicando que se tiene que retirar y donde.\nNO DEJAR EN CONTENEDORES NI CALLES \nPOR UN OTERO LIMPIO Y BONITO \n¡ESTÁ EN MANOS DE TOD@S! \n#OteroInformado \n#OteroRecicla \n#OteroBonito
URL:https://oterodeherreros.es/evento/recogida-de-enseres-35/
CATEGORIES:Eventos
ATTACH;FMTTYPE=image/jpeg:https://oterodeherreros.es/wp-content/uploads/2024/06/enseres-1.jpg
END:VEVENT
BEGIN:VEVENT
DTSTART;VALUE=DATE:20240726
DTEND;VALUE=DATE:20240731
DTSTAMP:20260422T155037
CREATED:20240703T153728Z
LAST-MODIFIED:20240703T153728Z
UID:32168-1721952000-1722383999@oterodeherreros.es
SUMMARY:Torneo de Padel Fiestas de Agosto
DESCRIPTION:Torneo de Padel Fiestas de Agosto de 2024 \nMasculino y Femenino. \nLas fases clasificatorias tendrán lugar el 26\, 27\,28 de Julio. \nLas semifinales y las finales tendrán lugar el  30 de Julio. \nLa fecha límite para apuntarse es el martes 16 de Julio. \nPara apuntarse escribir un WhatsApp Número que aparecen en el cartel . \nDirigido a parejas empadronadas o que vivan en el municipio.
URL:https://oterodeherreros.es/evento/torneo-de-padel-fiestas-de-agosto/
LOCATION:Pista de Padel\, arcipreste de hita\, otero de herreros\, segovia\, 40422
CATEGORIES:Eventos
ATTACH;FMTTYPE=image/jpeg:https://oterodeherreros.es/wp-content/uploads/2024/07/padel-fiestas-scaled.jpg
END:VEVENT
BEGIN:VEVENT
DTSTART;TZID=Europe/Helsinki:20240726T220000
DTEND;TZID=Europe/Helsinki:20240726T233000
DTSTAMP:20260422T155037
CREATED:20240722T100218Z
LAST-MODIFIED:20240722T100218Z
UID:32354-1722031200-1722036600@oterodeherreros.es
SUMMARY:Cine de Verano  " MIGRACIÓN"
DESCRIPTION:VIERNES DE CINE DE VERANO \nEntrada GRATUITA!!! 85min \n\n\n\nTítulo original Migration \nSinopsis \nLa familia Mallard se ha quedado ‘estancada’. Mientras papá Mack se siente realizado cuidando de su familia en su estanque de Nueva Inglaterra\, mamá Pam se muere de ganas de vivir la vida y hacer descubrir a sus hijos –el adolescente Dax y la patita Gwen– el mundo en toda su amplitud. Después de que una familia de patos migratorios llegue a su estanque con maravillosas historias de lugares lejanos\, Pam consigue convencer a Mack de que deben viajar a la tropical Jamaica pasando por Nueva York. Los Mallard emprenden el viaje hacia el sur para pasar el invierno\, pero nada sale como estaba previsto. La experiencia les ayudará a descubrir horizontes desconocidos\, a hacer nuevos amigos\, a vivir experiencias que jamás imaginaron\, y de paso\, a conocerse mejor. (FILMAFFINITY)\n \n 
URL:https://oterodeherreros.es/evento/cine-de-verano-migracion/
LOCATION:Plaza Mayor\, Plaza Mayor\, Otero de Herreros\, 40422
CATEGORIES:Eventos
ATTACH;FMTTYPE=image/jpeg:https://oterodeherreros.es/wp-content/uploads/2024/07/cine-26.jpg
END:VEVENT
BEGIN:VEVENT
DTSTART;VALUE=DATE:20240729
DTEND;VALUE=DATE:20240730
DTSTAMP:20260422T155037
CREATED:20240723T100120Z
LAST-MODIFIED:20240723T100120Z
UID:32386-1722211200-1722297599@oterodeherreros.es
SUMMARY:Lunes 29 Fiestas Santos Justo y Pastor 2024
DESCRIPTION:LUNES 29 DE JULIO: \n\n16:00h.: Comenzamos nuestras fiestas patronales con un TORNEO DE BALONCESTO\n3X3\, por categorías\, en el PABELLÓN MUNICIPAL DEPORTIVO. Actividad organizada\npor Héctor González.\n19:00h.: Seguimos con más deporte en la PLAZA MAYOR. Ven a hacer BICICLETA\nESTÁTICA y seguidamente SESIÓN DE ZUMBA. ¡Empieza las fiestas en forma!
URL:https://oterodeherreros.es/evento/lunes-29-fiestas-santos-justo-y-pastor-2024/
CATEGORIES:Eventos
ATTACH;FMTTYPE=image/jpeg:https://oterodeherreros.es/wp-content/uploads/2024/07/lunes.jpg
END:VEVENT
BEGIN:VEVENT
DTSTART;TZID=Europe/Helsinki:20240729T160000
DTEND;TZID=Europe/Helsinki:20240729T203000
DTSTAMP:20260422T155037
CREATED:20240710T140959Z
LAST-MODIFIED:20240710T141044Z
UID:32267-1722268800-1722285000@oterodeherreros.es
SUMMARY:Torneo Baloncesto 3x3
DESCRIPTION:
URL:https://oterodeherreros.es/evento/campeonato-baloncesto-3x3/
LOCATION:Pabellon Municipal
CATEGORIES:Eventos
ATTACH;FMTTYPE=image/jpeg:https://oterodeherreros.es/wp-content/uploads/2024/07/baloncesto-3x3-1.jpg
END:VEVENT
BEGIN:VEVENT
DTSTART;VALUE=DATE:20240730
DTEND;VALUE=DATE:20240731
DTSTAMP:20260422T155037
CREATED:20240723T101956Z
LAST-MODIFIED:20240723T101956Z
UID:32389-1722297600-1722383999@oterodeherreros.es
SUMMARY:Martes 30 Fiestas Santos Justo y Pastor 2024
DESCRIPTION:MARTES 30 DE JULIO: \n\n19:00h.: Continuamos con más deporte: ELIMINATORIA DEL TORNEO DE PADEL\,\nmasculino y femenino en la PISTA MUNICIPAL DE PÁDEL. Actividad organizada\npor la “PEÑA F.B.I.” (Ver cartel aparte).\n22:00h.: ¿Te atreves con un repaso de CULTURA GENERAL?. Acércate a la PLAZA\nMAYOR y concursa en el TRIVIAL que nos organiza la PEÑA “U.V.I.” ¡Te lo pasarás\ngenial!\n\n 
URL:https://oterodeherreros.es/evento/martes-30-fiestas-santos-justo-y-pastor-2024-2/
CATEGORIES:Eventos
ATTACH;FMTTYPE=image/jpeg:https://oterodeherreros.es/wp-content/uploads/2024/07/lunes.jpg
END:VEVENT
BEGIN:VEVENT
DTSTART;VALUE=DATE:20240731
DTEND;VALUE=DATE:20240801
DTSTAMP:20260422T155037
CREATED:20240723T104231Z
LAST-MODIFIED:20240723T104231Z
UID:32391-1722384000-1722470399@oterodeherreros.es
SUMMARY:Miércoles 31 Fiestas Santos Justo y Pastor 2024
DESCRIPTION:MIÉRCOLES 31 DE JULIO: \n\n11:00h.: Empezamos el día\, disfrutando de un estupendo CONCURSO DE JUEGOS\nINFANTILES\, en el PARQUE DE SAN ROQUE. Actividad organizada por la “ASOCIACIÓN\nCARMOCHÍN”. ¡Ven a pasarlo bien!\n16:00h.: Finales del TORNEO INTERPEÑAS DE FÚTBOL\, en el PABELLÓN DEPORTIVO\nMUNICIPAL. Organizado por la PEÑA “EL RESACÓN”.\n20:00h.: Nuestros vecinos del “CORO DE OTERO DE HERREROS”\, bajo la dirección\nde D. Jesús Garcimartín Palomares\, nos ofrecerán un maravilloso CONCIERTO\nen la IGLESIA PARROQUIAL de nuestro municipio. (Ver cartel aparte).\n22:00h.: Gran GYNKANA INFANTIL organizada por las PEÑAS “LA REVOLUCIÓN” y\n“LAS ZUMIS”.\n24:00h.: Gran GYNKANA PARA ADULTOS organizada también por las PEÑAS “LA\nREVOLUCIÓN” y “LAS ZUMIS”. ¡Ven a echarte unas risas y a pasar un buen rato!\n\n 
URL:https://oterodeherreros.es/evento/miercoles-31-fiestas-santos-justo-y-pastor-2024/
CATEGORIES:Eventos
ATTACH;FMTTYPE=image/jpeg:https://oterodeherreros.es/wp-content/uploads/2024/07/miercoles.jpg
END:VEVENT
BEGIN:VEVENT
DTSTART;VALUE=DATE:20240731
DTEND;VALUE=DATE:20240801
DTSTAMP:20260422T155037
CREATED:20240729T080149Z
LAST-MODIFIED:20240729T080149Z
UID:32424-1722384000-1722470399@oterodeherreros.es
SUMMARY:Torneo Interpeñas
DESCRIPTION:
URL:https://oterodeherreros.es/evento/torneo-interpenas/
LOCATION:Pabellon Municipal
CATEGORIES:Eventos
ATTACH;FMTTYPE=image/jpeg:https://oterodeherreros.es/wp-content/uploads/2024/07/Imagen-de-WhatsApp-2024-07-26-a-las-10.01.46_d065302c.jpg
END:VEVENT
BEGIN:VEVENT
DTSTART;TZID=Europe/Helsinki:20240731T200000
DTEND;TZID=Europe/Helsinki:20240731T220000
DTSTAMP:20260422T155037
CREATED:20240708T105325Z
LAST-MODIFIED:20240708T105325Z
UID:32182-1722456000-1722463200@oterodeherreros.es
SUMMARY:Concierto Coral de Otero de Herreros
DESCRIPTION:
URL:https://oterodeherreros.es/evento/concierto-coral-de-otero-de-herreros/
LOCATION:IGLESIA SANTOS JUSTO Y PASTOR
CATEGORIES:Eventos
ATTACH;FMTTYPE=image/jpeg:https://oterodeherreros.es/wp-content/uploads/2024/07/concierto-coral.jpg
END:VEVENT
END:VCALENDAR